Package: phenomis Version: 1.8.0 Command: /home/biocbuild/R/R/bin/R CMD check --install=check:phenomis.install-out.txt --library=/home/biocbuild/R/R/site-library --no-vignettes --timings phenomis_1.8.0.tar.gz StartedAt: 2025-01-31 09:06:31 -0000 (Fri, 31 Jan 2025) EndedAt: 2025-01-31 09:12:59 -0000 (Fri, 31 Jan 2025) EllapsedTime: 388.4 seconds RetCode: 0 Status: OK CheckDir: phenomis.Rcheck Warnings: 0