Package: phenoTest Version: 1.54.0 Command: /home/biocbuild/bbs-3.20-bioc/R/bin/R CMD INSTALL phenoTest StartedAt: 2025-01-02 15:49:29 -0500 (Thu, 02 Jan 2025) EndedAt: 2025-01-02 15:50:01 -0500 (Thu, 02 Jan 2025) EllapsedTime: 32.1 seconds RetCode: 0 Status: OK