Package: phenoTest Version: 1.56.0 Command: /Library/Frameworks/R.framework/Resources/bin/R CMD INSTALL phenoTest StartedAt: 2025-04-21 15:09:54 -0400 (Mon, 21 Apr 2025) EndedAt: 2025-04-21 15:10:07 -0400 (Mon, 21 Apr 2025) EllapsedTime: 12.8 seconds RetCode: 0 Status: OK