Package: phenoTest Version: 1.56.0 Command: rm -rf phenoTest.buildbin-libdir && mkdir phenoTest.buildbin-libdir && /Users/biocbuild/BBS/utils/build-universal.sh phenoTest_1.56.0.tar.gz /Library/Frameworks/R.framework/Resources/bin/R phenoTest.buildbin-libdir StartedAt: 2025-04-21 22:46:13 -0400 (Mon, 21 Apr 2025) EndedAt: 2025-04-21 22:46:27 -0400 (Mon, 21 Apr 2025) EllapsedTime: 14.4 seconds RetCode: 0 Status: OK PackageFile: phenoTest_1.56.0.tgz PackageFileSize: 1.896 MiB