Package: phantasusLite Version: 1.6.0 Command: chmod a+r phantasusLite -R && E:\biocbuild\bbs-3.21-bioc\R\bin\R.exe CMD build --keep-empty-dirs --no-resave-data phantasusLite StartedAt: 2025-08-14 21:15:28 -0400 (Thu, 14 Aug 2025) EndedAt: 2025-08-14 21:16:34 -0400 (Thu, 14 Aug 2025) EllapsedTime: 65.6 seconds RetCode: 0 Status: OK PackageFile: phantasusLite_1.6.0.tar.gz PackageFileSize: 233.5 KiB