Package: phantasus Version: 1.26.0 Command: chmod a+r phantasus -R && F:\biocbuild\bbs-3.20-bioc\R\bin\R.exe CMD build --keep-empty-dirs --no-resave-data phantasus StartedAt: 2025-01-30 20:56:23 -0500 (Thu, 30 Jan 2025) EndedAt: 2025-01-30 20:57:23 -0500 (Thu, 30 Jan 2025) EllapsedTime: 60.1 seconds RetCode: 0 Status: OK PackageFile: phantasus_1.26.0.tar.gz PackageFileSize: 9.551 MiB