Package: phantasus Version: 1.28.0 Command: /home/biocbuild/R/R/bin/R CMD check --install=check:phantasus.install-out.txt --library=/home/biocbuild/R/R/site-library --no-vignettes --timings phantasus_1.28.0.tar.gz StartedAt: 2025-05-13 12:15:02 -0000 (Tue, 13 May 2025) EndedAt: 2025-05-13 12:26:42 -0000 (Tue, 13 May 2025) EllapsedTime: 699.9 seconds RetCode: 0 Status: OK CheckDir: phantasus.Rcheck Warnings: 0