Package: phantasus Version: 1.28.0 Command: /Library/Frameworks/R.framework/Resources/bin/R CMD build --keep-empty-dirs --no-resave-data phantasus StartedAt: 2025-05-02 05:50:48 -0400 (Fri, 02 May 2025) EndedAt: 2025-05-02 05:51:40 -0400 (Fri, 02 May 2025) EllapsedTime: 52.1 seconds RetCode: 0 Status: OK PackageFile: phantasus_1.28.0.tar.gz PackageFileSize: 9.551 MiB