############################################################################## ############################################################################## ### ### Running command: ### ### rm -rf phantasus.buildbin-libdir && mkdir phantasus.buildbin-libdir && /Users/biocbuild/BBS/utils/build-universal.sh phantasus_1.28.0.tar.gz /Library/Frameworks/R.framework/Resources/bin/R phantasus.buildbin-libdir ### ############################################################################## ############################################################################## >>>>>>> >>>>>>> INSTALLATION WITH 'R CMD INSTALL --preclean --no-multiarch --library=phantasus.buildbin-libdir phantasus_1.28.0.tar.gz' >>>>>>> * installing *source* package ‘phantasus’ ... ** this is package ‘phantasus’ version ‘1.28.0’ ** using staged installation ** R ** data *** moving datasets to lazyload DB ** inst ** byte-compile and prepare package for lazy loading ** help *** installing help indices ** building package indices ** installing vignettes ** testing if installed package can be loaded from temporary location ** testing if installed package can be loaded from final location ** testing if installed package keeps a record of temporary installation path * DONE (phantasus) chown: phantasus.buildbin-libdir/phantasus/CITATION: Operation not permitted chown: phantasus.buildbin-libdir/phantasus/testdata/test.gct: Operation not permitted chown: phantasus.buildbin-libdir/phantasus/testdata/wrapped_wrongFormat.rda: Operation not permitted chown: phantasus.buildbin-libdir/phantasus/testdata/wrapped_aa.rda: Operation not permitted chown: phantasus.buildbin-libdir/phantasus/testdata/counts_versioned_ids.gct: Operation not permitted chown: phantasus.buildbin-libdir/phantasus/testdata/config/R/phantasus/user.conf: Operation not permitted chown: phantasus.buildbin-libdir/phantasus/testdata/config/R/phantasus: Operation not permitted chown: phantasus.buildbin-libdir/phantasus/testdata/config/R: Operation not permitted chown: phantasus.buildbin-libdir/phantasus/testdata/config: Operation not permitted chown: phantasus.buildbin-libdir/phantasus/testdata/annotationdb/sample_mouse_db.sqlite: Operation not permitted chown: phantasus.buildbin-libdir/phantasus/testdata/annotationdb: Operation not permitted chown: phantasus.buildbin-libdir/phantasus/testdata/geo/series/GSE99nnn/GSE99709/brief: Operation not permitted chown: phantasus.buildbin-libdir/phantasus/testdata/geo/series/GSE99nnn/GSE99709/matrix/GSE99709_series_matrix.txt.gz: Operation not permitted chown: phantasus.buildbin-libdir/phantasus/testdata/geo/series/GSE99nnn/GSE99709/matrix: Operation not permitted chown: phantasus.buildbin-libdir/phantasus/testdata/geo/series/GSE99nnn/GSE99709: Operation not permitted chown: phantasus.buildbin-libdir/phantasus/testdata/geo/series/GSE99nnn: Operation not permitted chown: phantasus.buildbin-libdir/phantasus/testdata/geo/series: Operation not permitted chown: phantasus.buildbin-libdir/phantasus/testdata/geo/platforms/GPL17nnn/GPL17021/annot/GPL17021.soft: Operation not permitted chown: phantasus.buildbin-libdir/phantasus/testdata/geo/platforms/GPL17nnn/GPL17021/annot: Operation not permitted chown: phantasus.buildbin-libdir/phantasus/testdata/geo/platforms/GPL17nnn/GPL17021: Operation not permitted chown: phantasus.buildbin-libdir/phantasus/testdata/geo/platforms/GPL17nnn: Operation not permitted chown: phantasus.buildbin-libdir/phantasus/testdata/geo/platforms: Operation not permitted chown: phantasus.buildbin-libdir/phantasus/testdata/geo: Operation not permitted chown: phantasus.buildbin-libdir/phantasus/testdata/GSE27112-GPL6103.rda: Operation not permitted chown: phantasus.buildbin-libdir/phantasus/testdata/centers.gct: Operation not permitted chown: phantasus.buildbin-libdir/phantasus/testdata/rows: Operation not permitted chown: phantasus.buildbin-libdir/phantasus/testdata/GSE120978_unfiltered_pData.rda: Operation not permitted chown: phantasus.buildbin-libdir/phantasus/testdata/aa.rda: Operation not permitted chown: phantasus.buildbin-libdir/phantasus/testdata/archs4/mouse_matrix.h5: Operation not permitted chown: phantasus.buildbin-libdir/phantasus/testdata/archs4: Operation not permitted chown: phantasus.buildbin-libdir/phantasus/testdata/dts.tsv: Operation not permitted chown: phantasus.buildbin-libdir/phantasus/testdata/collapse_dataset_one.gct: Operation not permitted chown: phantasus.buildbin-libdir/phantasus/testdata/counts/counts_priority.txt: Operation not permitted chown: phantasus.buildbin-libdir/phantasus/testdata/counts/archs4/mouse_matrix_v9_sample_100_100_12.h5: Operation not permitted chown: phantasus.buildbin-libdir/phantasus/testdata/counts/archs4/meta.txt: Operation not permitted chown: phantasus.buildbin-libdir/phantasus/testdata/counts/archs4/human_matrix_v9_sample_100_100_1.h5: Operation not permitted chown: phantasus.buildbin-libdir/phantasus/testdata/counts/archs4: Operation not permitted chown: phantasus.buildbin-libdir/phantasus/testdata/counts/meta.rda: Operation not permitted chown: phantasus.buildbin-libdir/phantasus/testdata/counts: Operation not permitted chown: phantasus.buildbin-libdir/phantasus/testdata/wrongFormatFile.rda: Operation not permitted chown: phantasus.buildbin-libdir/phantasus/testdata: Operation not permitted chown: phantasus.buildbin-libdir/phantasus/extdata/centers.gct: Operation not permitted chown: phantasus.buildbin-libdir/phantasus/extdata: Operation not permitted chown: phantasus.buildbin-libdir/phantasus/LICENSE: Operation not permitted chown: phantasus.buildbin-libdir/phantasus/gen_toy_mouse_matrix_h5.R: Operation not permitted chown: phantasus.buildbin-libdir/phantasus/R/phantasus: Operation not permitted chown: phantasus.buildbin-libdir/phantasus/R/phantasus.rdb: Operation not permitted chown: phantasus.buildbin-libdir/phantasus/R/phantasus.rdx: Operation not permitted chown: phantasus.buildbin-libdir/phantasus/R: Operation not permitted chown: phantasus.buildbin-libdir/phantasus/Meta/vignette.rds: Operation not permitted chown: phantasus.buildbin-libdir/phantasus/Meta/data.rds: Operation not permitted chown: phantasus.buildbin-libdir/phantasus/Meta/links.rds: Operation not permitted chown: phantasus.buildbin-libdir/phantasus/Meta/features.rds: Operation not permitted chown: phantasus.buildbin-libdir/phantasus/Meta/nsInfo.rds: Operation not permitted chown: phantasus.buildbin-libdir/phantasus/Meta/package.rds: Operation not permitted chown: phantasus.buildbin-libdir/phantasus/Meta/hsearch.rds: Operation not permitted chown: phantasus.buildbin-libdir/phantasus/Meta/Rd.rds: Operation not permitted chown: phantasus.buildbin-libdir/phantasus/Meta: Operation not permitted chown: phantasus.buildbin-libdir/phantasus/update_versions.sh: Operation not permitted chown: phantasus.buildbin-libdir/phantasus/NAMESPACE: Operation not permitted chown: phantasus.buildbin-libdir/phantasus/html/R.css: Operation not permitted chown: phantasus.buildbin-libdir/phantasus/html/00Index.html: Operation not permitted chown: phantasus.buildbin-libdir/phantasus/html: Operation not permitted chown: phantasus.buildbin-libdir/phantasus/www/phantasus.js/phantasus-tutorial.html: Operation not permitted chown: phantasus.buildbin-libdir/phantasus/www/phantasus.js/commit: Operation not permitted chown: phantasus.buildbin-libdir/phantasus/www/phantasus.js/tutorial.html: Operation not permitted chown: phantasus.buildbin-libdir/phantasus/www/phantasus.js/favicon.ico: Operation not permitted chown: phantasus.buildbin-libdir/phantasus/www/phantasus.js/index.html: Operation not permitted chown: phantasus.buildbin-libdir/phantasus/www/phantasus.js/css/images/sort_asc_disabled.png: Operation not permitted chown: phantasus.buildbin-libdir/phantasus/www/phantasus.js/css/images/ui-icons_777777_256x240.png: Operation not permitted chown: phantasus.buildbin-libdir/phantasus/www/phantasus.js/css/images/icon.svg: Operation not permitted chown: phantasus.buildbin-libdir/phantasus/www/phantasus.js/css/images/ui-icons_cc0000_256x240.png: Operation not permitted chown: phantasus.buildbin-libdir/phantasus/www/phantasus.js/css/images/sort_both.png: Operation not permitted chown: phantasus.buildbin-libdir/phantasus/www/phantasus.js/css/images/sort_desc_disabled.png: Operation not permitted chown: phantasus.buildbin-libdir/phantasus/www/phantasus.js/css/images/ui-icons_777620_256x240.png: Operation not permitted chown: phantasus.buildbin-libdir/phantasus/www/phantasus.js/css/images/ui-icons_ffffff_256x240.png: Operation not permitted chown: phantasus.buildbin-libdir/phantasus/www/phantasus.js/css/images/phantasus_logo_16.png: Operation not permitted chown: phantasus.buildbin-libdir/phantasus/www/phantasus.js/css/images/sort_desc.png: Operation not permitted chown: phantasus.buildbin-libdir/phantasus/www/phantasus.js/css/images/ui-icons_555555_256x240.png: Operation not permitted chown: phantasus.buildbin-libdir/phantasus/www/phantasus.js/css/images/ui-icons_444444_256x240.png: Operation not permitted chown: phantasus.buildbin-libdir/phantasus/www/phantasus.js/css/images/phantasus_logo_main.svg: Operation not permitted chown: phantasus.buildbin-libdir/phantasus/www/phantasus.js/css/images/sort_asc.png: Operation not permitted chown: phantasus.buildbin-libdir/phantasus/www/phantasus.js/css/images: Operation not permitted chown: phantasus.buildbin-libdir/phantasus/www/phantasus.js/css/phantasus-latest.min.css: Operation not permitted chown: phantasus.buildbin-libdir/phantasus/www/phantasus.js/css: Operation not permitted chown: phantasus.buildbin-libdir/phantasus/www/phantasus.js/js/phantasus.js: Operation not permitted chown: phantasus.buildbin-libdir/phantasus/www/phantasus.js/js/phantasus-external-pdfkit-xlsx.min.js: Operation not permitted chown: phantasus.buildbin-libdir/phantasus/www/phantasus.js/js/phantasus-external-plotly.min.js: Operation not permitted chown: phantasus.buildbin-libdir/phantasus/www/phantasus.js/js/phantasus-external-plotly-echarts.min.js: Operation not permitted chown: phantasus.buildbin-libdir/phantasus/www/phantasus.js/js/phantasus-external-other.min.js: Operation not permitted chown: phantasus.buildbin-libdir/phantasus/www/phantasus.js/js: Operation not permitted chown: phantasus.buildbin-libdir/phantasus/www/phantasus.js/server.js: Operation not permitted chown: phantasus.buildbin-libdir/phantasus/www/phantasus.js/RELEASE.js: Operation not permitted chown: phantasus.buildbin-libdir/phantasus/www/phantasus.js/linking.html: Operation not permitted chown: phantasus.buildbin-libdir/phantasus/www/phantasus.js/message.proto: Operation not permitted chown: phantasus.buildbin-libdir/phantasus/www/phantasus.js/fonts/fontawesome-webfont.svg: Operation not permitted chown: phantasus.buildbin-libdir/phantasus/www/phantasus.js/fonts/FontAwesome.otf: Operation not permitted chown: phantasus.buildbin-libdir/phantasus/www/phantasus.js/fonts/fontawesome-webfont.woff2: Operation not permitted chown: phantasus.buildbin-libdir/phantasus/www/phantasus.js/fonts/fontawesome-webfont.ttf: Operation not permitted chown: phantasus.buildbin-libdir/phantasus/www/phantasus.js/fonts/fontawesome-webfont.woff: Operation not permitted chown: phantasus.buildbin-libdir/phantasus/www/phantasus.js/fonts/fontawesome-webfont.eot: Operation not permitted chown: phantasus.buildbin-libdir/phantasus/www/phantasus.js/fonts: Operation not permitted chown: phantasus.buildbin-libdir/phantasus/www/phantasus.js/bitmap.png: Operation not permitted chown: phantasus.buildbin-libdir/phantasus/www/phantasus.js/sw.js: Operation not permitted chown: phantasus.buildbin-libdir/phantasus/www/phantasus.js: Operation not permitted chown: phantasus.buildbin-libdir/phantasus/www: Operation not permitted chown: phantasus.buildbin-libdir/phantasus/docker-entrypoint.sh: Operation not permitted chown: phantasus.buildbin-libdir/phantasus/update_js.sh: Operation not permitted chown: phantasus.buildbin-libdir/phantasus/DESCRIPTION: Operation not permitted chown: phantasus.buildbin-libdir/phantasus/NEWS: Operation not permitted chown: phantasus.buildbin-libdir/phantasus/configs/index.html: Operation not permitted chown: phantasus.buildbin-libdir/phantasus/configs/R/phantasus/setup.yml: Operation not permitted chown: phantasus.buildbin-libdir/phantasus/configs/R/phantasus/user.conf: Operation not permitted chown: phantasus.buildbin-libdir/phantasus/configs/R/phantasus: Operation not permitted chown: phantasus.buildbin-libdir/phantasus/configs/R: Operation not permitted chown: phantasus.buildbin-libdir/phantasus/configs/apache2/mods-available/mpm_prefork.conf: Operation not permitted chown: phantasus.buildbin-libdir/phantasus/configs/apache2/mods-available: Operation not permitted chown: phantasus.buildbin-libdir/phantasus/configs/apache2/ports.conf: Operation not permitted chown: phantasus.buildbin-libdir/phantasus/configs/apache2/sites-available/opencpu.conf: Operation not permitted chown: phantasus.buildbin-libdir/phantasus/configs/apache2/sites-available/000-default.conf: Operation not permitted chown: phantasus.buildbin-libdir/phantasus/configs/apache2/sites-available: Operation not permitted chown: phantasus.buildbin-libdir/phantasus/configs/apache2: Operation not permitted chown: phantasus.buildbin-libdir/phantasus/configs/nginx/sites-available/default: Operation not permitted chown: phantasus.buildbin-libdir/phantasus/configs/nginx/sites-available: Operation not permitted chown: phantasus.buildbin-libdir/phantasus/configs/nginx/nginx.conf: Operation not permitted chown: phantasus.buildbin-libdir/phantasus/configs/nginx: Operation not permitted chown: phantasus.buildbin-libdir/phantasus/configs/opencpu/server.conf: Operation not permitted chown: phantasus.buildbin-libdir/phantasus/configs/opencpu/Rprofile: Operation not permitted chown: phantasus.buildbin-libdir/phantasus/configs/opencpu: Operation not permitted chown: phantasus.buildbin-libdir/phantasus/configs: Operation not permitted chown: phantasus.buildbin-libdir/phantasus/INDEX: Operation not permitted chown: phantasus.buildbin-libdir/phantasus/doc/phantasus-tutorial.html: Operation not permitted chown: phantasus.buildbin-libdir/phantasus/doc/phantasus-tutorial.Rmd: Operation not permitted chown: phantasus.buildbin-libdir/phantasus/doc/index.html: Operation not permitted chown: phantasus.buildbin-libdir/phantasus/doc/phantasus-tutorial.R: Operation not permitted chown: phantasus.buildbin-libdir/phantasus/doc: Operation not permitted chown: phantasus.buildbin-libdir/phantasus/data/Rdata.rds: Operation not permitted chown: phantasus.buildbin-libdir/phantasus/data/Rdata.rdx: Operation not permitted chown: phantasus.buildbin-libdir/phantasus/data/Rdata.rdb: Operation not permitted chown: phantasus.buildbin-libdir/phantasus/data: Operation not permitted chown: phantasus.buildbin-libdir/phantasus/help/AnIndex: Operation not permitted chown: phantasus.buildbin-libdir/phantasus/help/aliases.rds: Operation not permitted chown: phantasus.buildbin-libdir/phantasus/help/paths.rds: Operation not permitted chown: phantasus.buildbin-libdir/phantasus/help/phantasus.rdb: Operation not permitted chown: phantasus.buildbin-libdir/phantasus/help/phantasus.rdx: Operation not permitted chown: phantasus.buildbin-libdir/phantasus/help: Operation not permitted chown: phantasus.buildbin-libdir/phantasus: Operation not permitted