Package: pfamAnalyzeR Version: 1.8.0 Command: /home/biocbuild/R/R/bin/R CMD build --keep-empty-dirs --no-resave-data pfamAnalyzeR StartedAt: 2025-10-03 03:27:54 -0000 (Fri, 03 Oct 2025) EndedAt: 2025-10-03 03:28:03 -0000 (Fri, 03 Oct 2025) EllapsedTime: 9.0 seconds RetCode: 0 Status: OK PackageFile: pfamAnalyzeR_1.8.0.tar.gz PackageFileSize: 374.9 KiB