Package: pfamAnalyzeR Version: 1.8.0 Command: rm -rf pfamAnalyzeR.buildbin-libdir && mkdir pfamAnalyzeR.buildbin-libdir && /Users/biocbuild/BBS/utils/build-universal.sh pfamAnalyzeR_1.8.0.tar.gz /Library/Frameworks/R.framework/Resources/bin/R pfamAnalyzeR.buildbin-libdir StartedAt: 2025-04-21 22:46:08 -0400 (Mon, 21 Apr 2025) EndedAt: 2025-04-21 22:46:10 -0400 (Mon, 21 Apr 2025) EllapsedTime: 2.0 seconds RetCode: 0 Status: OK PackageFile: pfamAnalyzeR_1.8.0.tgz PackageFileSize: 311.3 KiB