Package: periodicDNA Version: 1.18.0 Maintainer: Jacques Serizay MaintainerEmail: jacquesserizay at gmail.com git_url: https://git.bioconductor.org/packages/periodicDNA git_branch: RELEASE_3_21 git_last_commit: 1ba030b git_last_commit_date: 2025-04-15 12:08:07 -0400 (Tue, 15 Apr 2025)