Package: peco Version: 1.20.0 Command: /home/biocbuild/bbs-3.21-bioc/R/bin/R CMD build --keep-empty-dirs --no-resave-data peco StartedAt: 2025-09-21 19:05:40 -0400 (Sun, 21 Sep 2025) EndedAt: 2025-09-21 19:08:01 -0400 (Sun, 21 Sep 2025) EllapsedTime: 141.1 seconds RetCode: 0 Status: OK PackageFile: peco_1.20.0.tar.gz PackageFileSize: 1.068 MiB