Package: peakPantheR Version: 1.22.0 Command: /home/biocbuild/R/R/bin/R CMD build --keep-empty-dirs --no-resave-data peakPantheR StartedAt: 2025-05-16 03:05:22 -0000 (Fri, 16 May 2025) EndedAt: 2025-05-16 03:07:37 -0000 (Fri, 16 May 2025) EllapsedTime: 135.1 seconds RetCode: 0 Status: OK PackageFile: peakPantheR_1.22.0.tar.gz PackageFileSize: 4.137 MiB