Package: pdInfoBuilder Version: 1.72.0 Command: chmod a+r pdInfoBuilder -R && E:\biocbuild\bbs-3.21-bioc\R\bin\R.exe CMD build --keep-empty-dirs --no-resave-data pdInfoBuilder StartedAt: 2025-08-14 21:11:45 -0400 (Thu, 14 Aug 2025) EndedAt: 2025-08-14 21:12:29 -0400 (Thu, 14 Aug 2025) EllapsedTime: 44.0 seconds RetCode: 0 Status: OK PackageFile: pdInfoBuilder_1.72.0.tar.gz PackageFileSize: 348.1 KiB