Package: pcaMethods Version: 2.0.0 Command: /Library/Frameworks/R.framework/Resources/bin/R CMD build --keep-empty-dirs --no-resave-data pcaMethods StartedAt: 2025-07-18 05:34:12 -0400 (Fri, 18 Jul 2025) EndedAt: 2025-07-18 05:36:35 -0400 (Fri, 18 Jul 2025) EllapsedTime: 142.5 seconds RetCode: 0 Status: OK PackageFile: pcaMethods_2.0.0.tar.gz PackageFileSize: 1017 KiB