Package: pathview Version: 1.46.0 Command: F:\biocbuild\bbs-3.20-bioc\R\bin\R.exe CMD check --no-multiarch --install=check:pathview.install-out.txt --library=F:\biocbuild\bbs-3.20-bioc\R\library --no-vignettes --timings pathview_1.46.0.tar.gz StartedAt: 2025-01-03 04:35:45 -0500 (Fri, 03 Jan 2025) EndedAt: 2025-01-03 04:38:52 -0500 (Fri, 03 Jan 2025) EllapsedTime: 187.0 seconds RetCode: 0 Status: WARNINGS CheckDir: pathview.Rcheck Warnings: 1