Package: pathview Version: 1.48.0 Command: chmod a+r pathview -R && E:\biocbuild\bbs-3.21-bioc\R\bin\R.exe CMD build --keep-empty-dirs --no-resave-data pathview StartedAt: 2025-08-14 21:10:59 -0400 (Thu, 14 Aug 2025) EndedAt: 2025-08-14 21:12:52 -0400 (Thu, 14 Aug 2025) EllapsedTime: 113.5 seconds RetCode: 0 Status: OK PackageFile: pathview_1.48.0.tar.gz PackageFileSize: 2.518 MiB