Package: pathRender Version: 1.74.0 Command: /home/biocbuild/R/R/bin/R CMD INSTALL pathRender StartedAt: 2025-01-30 20:20:06 -0000 (Thu, 30 Jan 2025) EndedAt: 2025-01-30 20:20:23 -0000 (Thu, 30 Jan 2025) EllapsedTime: 16.5 seconds RetCode: 0 Status: OK