Package: pathRender Version: 1.74.0 Command: /home/biocbuild/R/R/bin/R CMD check --install=check:pathRender.install-out.txt --library=/home/biocbuild/R/R/site-library --no-vignettes --timings pathRender_1.74.0.tar.gz StartedAt: 2025-01-31 09:01:05 -0000 (Fri, 31 Jan 2025) EndedAt: 2025-01-31 09:02:55 -0000 (Fri, 31 Jan 2025) EllapsedTime: 110.1 seconds RetCode: 0 Status: OK CheckDir: pathRender.Rcheck Warnings: 0