Package: pathRender Version: 1.76.0 Command: /Library/Frameworks/R.framework/Resources/bin/R CMD build --keep-empty-dirs --no-resave-data pathRender StartedAt: 2025-05-12 21:51:49 -0400 (Mon, 12 May 2025) EndedAt: 2025-05-12 21:52:50 -0400 (Mon, 12 May 2025) EllapsedTime: 61.2 seconds RetCode: 0 Status: OK PackageFile: pathRender_1.76.0.tar.gz PackageFileSize: 300.6 KiB