Package: pathMED Version: 1.2.0 Command: /home/biocbuild/bbs-3.22-bioc/R/bin/R CMD INSTALL pathMED StartedAt: 2025-11-20 16:49:25 -0500 (Thu, 20 Nov 2025) EndedAt: 2025-11-20 16:49:39 -0500 (Thu, 20 Nov 2025) EllapsedTime: 14.2 seconds RetCode: 0 Status: OK