Package: pathMED Version: 1.2.0 Command: /home/biocbuild/bbs-3.22-bioc/R/bin/R CMD build --keep-empty-dirs --no-resave-data --md5 pathMED StartedAt: 2025-11-20 20:02:50 -0500 (Thu, 20 Nov 2025) EndedAt: 2025-11-20 20:04:05 -0500 (Thu, 20 Nov 2025) EllapsedTime: 75.0 seconds RetCode: 0 Status: OK PackageFile: pathMED_1.2.0.tar.gz PackageFileSize: 6.345 MiB