Package: pareg Version: 1.12.0 Command: /Library/Frameworks/R.framework/Resources/bin/R CMD INSTALL pareg StartedAt: 2025-05-01 16:22:58 -0400 (Thu, 01 May 2025) EndedAt: 2025-05-01 16:23:42 -0400 (Thu, 01 May 2025) EllapsedTime: 43.3 seconds RetCode: 0 Status: OK