Package: pareg Version: 1.12.0 Command: /Library/Frameworks/R.framework/Resources/bin/R CMD build --keep-empty-dirs --no-resave-data pareg StartedAt: 2025-04-21 17:52:31 -0400 (Mon, 21 Apr 2025) EndedAt: 2025-04-21 17:55:37 -0400 (Mon, 21 Apr 2025) EllapsedTime: 186.4 seconds RetCode: 1 Status: ERROR PackageFile: None PackageFileSize: NA