Package: pareg Version: 1.10.0 Command: /home/biocbuild/R/R/bin/R CMD build --keep-empty-dirs --no-resave-data pareg StartedAt: 2024-11-20 02:51:14 -0000 (Wed, 20 Nov 2024) EndedAt: 2024-11-20 02:53:06 -0000 (Wed, 20 Nov 2024) EllapsedTime: 111.2 seconds RetCode: 1 Status: ERROR PackageFile: None PackageFileSize: NA