Package: pareg Version: 1.12.0 Command: /Library/Frameworks/R.framework/Resources/bin/R CMD build --keep-empty-dirs --no-resave-data pareg StartedAt: 2025-04-21 17:13:45 -0400 (Mon, 21 Apr 2025) EndedAt: 2025-04-21 17:14:27 -0400 (Mon, 21 Apr 2025) EllapsedTime: 41.5 seconds RetCode: 1 Status: ERROR PackageFile: None PackageFileSize: NA