Package: pareg Version: 1.12.0 Command: /Library/Frameworks/R.framework/Resources/bin/R CMD build --keep-empty-dirs --no-resave-data pareg StartedAt: 2025-09-26 06:07:37 -0400 (Fri, 26 Sep 2025) EndedAt: 2025-09-26 06:09:33 -0400 (Fri, 26 Sep 2025) EllapsedTime: 116.3 seconds RetCode: 1 Status: ERROR PackageFile: None PackageFileSize: NA