Package: pareg Version: 1.12.0 Maintainer: Kim Philipp Jablonski MaintainerEmail: kim.philipp.jablonski at gmail.com git_url: https://git.bioconductor.org/packages/pareg git_branch: RELEASE_3_21 git_last_commit: b560010 git_last_commit_date: 2025-04-15 12:49:11 -0400 (Tue, 15 Apr 2025)