Package: panp Version: 1.78.0 Command: /Library/Frameworks/R.framework/Resources/bin/R CMD build --keep-empty-dirs --no-resave-data panp StartedAt: 2025-10-02 21:24:54 -0400 (Thu, 02 Oct 2025) EndedAt: 2025-10-02 21:25:34 -0400 (Thu, 02 Oct 2025) EllapsedTime: 40.5 seconds RetCode: 0 Status: OK PackageFile: panp_1.78.0.tar.gz PackageFileSize: 670.6 KiB