Package: panelcn.mops Version: 1.30.0 Command: /Library/Frameworks/R.framework/Resources/bin/R CMD build --keep-empty-dirs --no-resave-data panelcn.mops StartedAt: 2025-05-15 21:23:03 -0400 (Thu, 15 May 2025) EndedAt: 2025-05-15 21:24:24 -0400 (Thu, 15 May 2025) EllapsedTime: 80.9 seconds RetCode: 0 Status: OK PackageFile: panelcn.mops_1.30.0.tar.gz PackageFileSize: 608.1 KiB