Package: panelcn.mops Version: 1.30.0 Command: rm -rf panelcn.mops.buildbin-libdir && mkdir panelcn.mops.buildbin-libdir && /Users/biocbuild/BBS/utils/build-universal.sh panelcn.mops_1.30.0.tar.gz /Library/Frameworks/R.framework/Resources/bin/R panelcn.mops.buildbin-libdir StartedAt: 2025-05-16 13:18:10 -0400 (Fri, 16 May 2025) EndedAt: 2025-05-16 13:18:56 -0400 (Fri, 16 May 2025) EllapsedTime: 46.3 seconds RetCode: 0 Status: OK PackageFile: panelcn.mops_1.30.0.tgz PackageFileSize: 466.3 KiB