Package: pandaR Version: 1.38.0 Command: /home/biocbuild/R/R/bin/R CMD check --install=check:pandaR.install-out.txt --library=/home/biocbuild/R/R/site-library --no-vignettes --timings pandaR_1.38.0.tar.gz StartedAt: 2025-01-31 08:58:00 -0000 (Fri, 31 Jan 2025) EndedAt: 2025-01-31 09:00:24 -0000 (Fri, 31 Jan 2025) EllapsedTime: 143.9 seconds RetCode: 0 Status: WARNINGS CheckDir: pandaR.Rcheck Warnings: 2