Package: pairkat Version: 1.12.0 Command: /home/biocbuild/R/R/bin/R CMD check --install=check:pairkat.install-out.txt --library=/home/biocbuild/R/R/site-library --no-vignettes --timings pairkat_1.12.0.tar.gz StartedAt: 2025-01-31 08:57:37 -0000 (Fri, 31 Jan 2025) EndedAt: 2025-01-31 09:05:59 -0000 (Fri, 31 Jan 2025) EllapsedTime: 501.3 seconds RetCode: 0 Status: OK CheckDir: pairkat.Rcheck Warnings: 0