Package: pairkat Version: 1.14.0 Command: E:\biocbuild\bbs-3.21-bioc\R\bin\R.exe CMD INSTALL pairkat StartedAt: 2025-08-14 16:03:49 -0400 (Thu, 14 Aug 2025) EndedAt: 2025-08-14 16:04:19 -0400 (Thu, 14 Aug 2025) EllapsedTime: 30.0 seconds RetCode: 0 Status: OK