Package: pairkat Version: 1.12.0 Command: /home/biocbuild/bbs-3.20-bioc/R/bin/R CMD INSTALL pairkat StartedAt: 2025-01-30 15:11:05 -0500 (Thu, 30 Jan 2025) EndedAt: 2025-01-30 15:11:27 -0500 (Thu, 30 Jan 2025) EllapsedTime: 22.1 seconds RetCode: 0 Status: OK