Package: pairkat Version: 1.14.0 Command: /Library/Frameworks/R.framework/Resources/bin/R CMD INSTALL pairkat StartedAt: 2025-04-24 16:33:27 -0400 (Thu, 24 Apr 2025) EndedAt: 2025-04-24 16:34:17 -0400 (Thu, 24 Apr 2025) EllapsedTime: 49.9 seconds RetCode: 0 Status: OK