Package: pairkat Version: 1.14.0 Command: /Library/Frameworks/R.framework/Resources/bin/R CMD check --install=check:pairkat.install-out.txt --library=/Library/Frameworks/R.framework/Resources/library --no-vignettes --timings pairkat_1.14.0.tar.gz StartedAt: 2025-04-25 08:11:11 -0400 (Fri, 25 Apr 2025) EndedAt: 2025-04-25 08:31:34 -0400 (Fri, 25 Apr 2025) EllapsedTime: 1223.1 seconds RetCode: 0 Status: OK CheckDir: pairkat.Rcheck Warnings: 0