Package: pairkat Version: 1.14.0 Command: /Library/Frameworks/R.framework/Resources/bin/R CMD build --keep-empty-dirs --no-resave-data pairkat StartedAt: 2025-04-24 21:59:40 -0400 (Thu, 24 Apr 2025) EndedAt: 2025-04-24 22:06:39 -0400 (Thu, 24 Apr 2025) EllapsedTime: 419.7 seconds RetCode: 0 Status: OK PackageFile: pairkat_1.14.0.tar.gz PackageFileSize: 822.7 KiB