Package: pairkat Version: 1.12.0 Command: rm -rf pairkat.buildbin-libdir && mkdir pairkat.buildbin-libdir && /Users/biocbuild/BBS/utils/build-universal.sh pairkat_1.12.0.tar.gz /Library/Frameworks/R.framework/Resources/bin/R pairkat.buildbin-libdir StartedAt: 2025-01-31 13:21:06 -0500 (Fri, 31 Jan 2025) EndedAt: 2025-01-31 13:22:00 -0500 (Fri, 31 Jan 2025) EllapsedTime: 54.0 seconds RetCode: 0 Status: OK PackageFile: pairkat_1.12.0.tgz PackageFileSize: 856.2 KiB