Package: pairkat Version: 1.14.0 Command: /Library/Frameworks/R.framework/Resources/bin/R CMD check --install=check:pairkat.install-out.txt --library=/Library/Frameworks/R.framework/Resources/library --no-vignettes --timings pairkat_1.14.0.tar.gz StartedAt: 2025-04-21 22:29:49 -0400 (Mon, 21 Apr 2025) EndedAt: 2025-04-21 22:45:30 -0400 (Mon, 21 Apr 2025) EllapsedTime: 941.2 seconds RetCode: 0 Status: OK CheckDir: pairkat.Rcheck Warnings: 0