Package: pairkat Version: 1.14.0 Command: /Library/Frameworks/R.framework/Resources/bin/R CMD build --keep-empty-dirs --no-resave-data pairkat StartedAt: 2025-04-21 17:51:27 -0400 (Mon, 21 Apr 2025) EndedAt: 2025-04-21 17:57:13 -0400 (Mon, 21 Apr 2025) EllapsedTime: 346.6 seconds RetCode: 0 Status: OK PackageFile: pairkat_1.14.0.tar.gz PackageFileSize: 822.5 KiB