Package: pairkat Version: 1.14.0 Command: rm -rf pairkat.buildbin-libdir && mkdir pairkat.buildbin-libdir && /Users/biocbuild/BBS/utils/build-universal.sh pairkat_1.14.0.tar.gz /Library/Frameworks/R.framework/Resources/bin/R pairkat.buildbin-libdir StartedAt: 2025-04-22 00:59:32 -0400 (Tue, 22 Apr 2025) EndedAt: 2025-04-22 01:00:07 -0400 (Tue, 22 Apr 2025) EllapsedTime: 34.7 seconds RetCode: 0 Status: OK PackageFile: pairkat_1.14.0.tgz PackageFileSize: 853.5 KiB