Package: pairkat Version: 1.14.0 Command: /home/biocbuild/R/R/bin/R CMD check --install=check:pairkat.install-out.txt --library=/home/biocbuild/R/R/site-library --no-vignettes --timings pairkat_1.14.0.tar.gz StartedAt: 2025-05-09 12:00:34 -0000 (Fri, 09 May 2025) EndedAt: 2025-05-09 12:14:36 -0000 (Fri, 09 May 2025) EllapsedTime: 842.0 seconds RetCode: 0 Status: OK CheckDir: pairkat.Rcheck Warnings: 0