Package: pairkat Version: 1.14.0 Command: /Library/Frameworks/R.framework/Resources/bin/R CMD INSTALL pairkat StartedAt: 2025-04-21 15:11:25 -0400 (Mon, 21 Apr 2025) EndedAt: 2025-04-21 15:11:35 -0400 (Mon, 21 Apr 2025) EllapsedTime: 9.8 seconds RetCode: 0 Status: OK