Package: pairkat Version: 1.14.0 Command: /Library/Frameworks/R.framework/Resources/bin/R CMD check --install=check:pairkat.install-out.txt --library=/Library/Frameworks/R.framework/Resources/library --no-vignettes --timings pairkat_1.14.0.tar.gz StartedAt: 2025-04-29 08:26:55 -0400 (Tue, 29 Apr 2025) EndedAt: 2025-04-29 08:38:18 -0400 (Tue, 29 Apr 2025) EllapsedTime: 682.9 seconds RetCode: 0 Status: OK CheckDir: pairkat.Rcheck Warnings: 0