Package: pairkat Version: 1.14.0 Command: rm -rf pairkat.buildbin-libdir && mkdir pairkat.buildbin-libdir && /Users/biocbuild/BBS/utils/build-universal.sh pairkat_1.14.0.tar.gz /Library/Frameworks/R.framework/Resources/bin/R pairkat.buildbin-libdir StartedAt: 2025-04-29 13:03:25 -0400 (Tue, 29 Apr 2025) EndedAt: 2025-04-29 13:03:36 -0400 (Tue, 29 Apr 2025) EllapsedTime: 11.1 seconds RetCode: 0 Status: OK PackageFile: pairkat_1.14.0.tgz PackageFileSize: 853 KiB