Package: paircompviz Version: 1.46.0 Maintainer: Michal Burda MaintainerEmail: michal.burda at osu.cz git_url: https://git.bioconductor.org/packages/paircompviz git_branch: RELEASE_3_21 git_last_commit: 67812e1 git_last_commit_date: 2025-04-15 10:24:46 -0400 (Tue, 15 Apr 2025)