Package: pageRank Version: 1.16.0 Command: /home/biocbuild/R/R/bin/R CMD build --keep-empty-dirs --no-resave-data pageRank StartedAt: 2025-01-31 01:38:20 -0000 (Fri, 31 Jan 2025) EndedAt: 2025-01-31 01:40:23 -0000 (Fri, 31 Jan 2025) EllapsedTime: 123.3 seconds RetCode: 0 Status: OK PackageFile: pageRank_1.16.0.tar.gz PackageFileSize: 119.6 KiB