Package: padma Version: 1.16.0 Command: /home/biocbuild/R/R/bin/R CMD check --install=check:padma.install-out.txt --library=/home/biocbuild/R/R/site-library --no-vignettes --timings padma_1.16.0.tar.gz StartedAt: 2025-01-31 08:56:10 -0000 (Fri, 31 Jan 2025) EndedAt: 2025-01-31 09:01:23 -0000 (Fri, 31 Jan 2025) EllapsedTime: 313.2 seconds RetCode: 0 Status: OK CheckDir: padma.Rcheck Warnings: 0